BEGIN:VCALENDAR
VERSION:2.0
PRODID:-//CeMEAS - ECPv6.15.16//NONSGML v1.0//EN
CALSCALE:GREGORIAN
METHOD:PUBLISH
X-ORIGINAL-URL:https://www.cemeas.de
X-WR-CALDESC:Events for CeMEAS
REFRESH-INTERVAL;VALUE=DURATION:PT1H
X-Robots-Tag:noindex
X-PUBLISHED-TTL:PT1H
BEGIN:VTIMEZONE
TZID:Europe/Berlin
BEGIN:DAYLIGHT
TZOFFSETFROM:+0100
TZOFFSETTO:+0200
TZNAME:CEST
DTSTART:20140330T010000
END:DAYLIGHT
BEGIN:STANDARD
TZOFFSETFROM:+0200
TZOFFSETTO:+0100
TZNAME:CET
DTSTART:20141026T010000
END:STANDARD
BEGIN:DAYLIGHT
TZOFFSETFROM:+0100
TZOFFSETTO:+0200
TZNAME:CEST
DTSTART:20150329T010000
END:DAYLIGHT
BEGIN:STANDARD
TZOFFSETFROM:+0200
TZOFFSETTO:+0100
TZNAME:CET
DTSTART:20151025T010000
END:STANDARD
BEGIN:DAYLIGHT
TZOFFSETFROM:+0100
TZOFFSETTO:+0200
TZNAME:CEST
DTSTART:20160327T010000
END:DAYLIGHT
BEGIN:STANDARD
TZOFFSETFROM:+0200
TZOFFSETTO:+0100
TZNAME:CET
DTSTART:20161030T010000
END:STANDARD
END:VTIMEZONE
BEGIN:VEVENT
DTSTART;TZID=Europe/Berlin:20150115T160000
DTEND;TZID=Europe/Berlin:20150115T183000
DTSTAMP:20260422T080618
CREATED:20150115T084950Z
LAST-MODIFIED:20150115T084950Z
UID:3567-1421337600-1421346600@www.cemeas.de
SUMMARY:German Japanese Colloquium 2015
DESCRIPTION:German- Japanese Colloqium 2015\nKnowledge Transfer across Borders: Integrative Approaches\nWednesday\, January 14\, 2015\n4pm – 6:30pm\nAssembly Hall\, Wilhelmsplatz 1\, 37073 Göttingen \nThe festive opening of the international conference on “Knowledge Transfer Across Borders” is open to all.\n \nIn today’s globalized\, knowledge-intensive world\, the accumulation and transfer of knowledge has become a key success factor for organizations. However\, knowledge transfer is complex due to the difficulties in defining\, storing and circulating knowledge. This challenge increases even more when knowledge is transferred across national\, cultural and linguistic borders. Despite the importance of the topic\, prior research has been fragmented and sometimes inconclusive\, partly due to disciplinary boundaries. The two keynote speakers address these challenges from their respective academic backgrounds\, neurobiology and international business. \nKeynotes by\nProf. Dr. Atsushi Iriki (RIKEN Brain Science Institute\, Wako City\, Japan)\nEvolutionary Biology of the Human Mind\nProf. Dr. Markus Pudelko (International Business\, University of Tübingen)\nKnowledge Transfer in Multinational Cooperations
URL:https://www.cemeas.de/event/3567/
LOCATION:Assembly Hall\, Wilhelmsplatz 1\, Göttingen\, 37073
CATEGORIES:Conference
END:VEVENT
END:VCALENDAR