BEGIN:VCALENDAR
VERSION:2.0
PRODID:-//CeMEAS - ECPv6.15.16//NONSGML v1.0//EN
CALSCALE:GREGORIAN
METHOD:PUBLISH
X-ORIGINAL-URL:https://www.cemeas.de
X-WR-CALDESC:Events for CeMEAS
REFRESH-INTERVAL;VALUE=DURATION:PT1H
X-Robots-Tag:noindex
X-PUBLISHED-TTL:PT1H
BEGIN:VTIMEZONE
TZID:Europe/Berlin
BEGIN:DAYLIGHT
TZOFFSETFROM:+0100
TZOFFSETTO:+0200
TZNAME:CEST
DTSTART:20140330T010000
END:DAYLIGHT
BEGIN:STANDARD
TZOFFSETFROM:+0200
TZOFFSETTO:+0100
TZNAME:CET
DTSTART:20141026T010000
END:STANDARD
BEGIN:DAYLIGHT
TZOFFSETFROM:+0100
TZOFFSETTO:+0200
TZNAME:CEST
DTSTART:20150329T010000
END:DAYLIGHT
BEGIN:STANDARD
TZOFFSETFROM:+0200
TZOFFSETTO:+0100
TZNAME:CET
DTSTART:20151025T010000
END:STANDARD
BEGIN:DAYLIGHT
TZOFFSETFROM:+0100
TZOFFSETTO:+0200
TZNAME:CEST
DTSTART:20160327T010000
END:DAYLIGHT
BEGIN:STANDARD
TZOFFSETFROM:+0200
TZOFFSETTO:+0100
TZNAME:CET
DTSTART:20161030T010000
END:STANDARD
END:VTIMEZONE
BEGIN:VEVENT
DTSTART;VALUE=DATE:20150611
DTEND;VALUE=DATE:20150614
DTSTAMP:20260422T020438
CREATED:20150225T092916Z
LAST-MODIFIED:20150225T092916Z
UID:3655-1433980800-1434239999@www.cemeas.de
SUMMARY:Language Diversity in the Sinophone World: Policies\, effects\, and tradition
DESCRIPTION:Language Diversity in the Sinophone World: Policies\, effects\, and tradition\nInternational Symposium\n 11 – 13 June 2015\nGöttingen University\, Historical Observatory\n\nDescription  \nLanguage diversity is a ubiquitous feature in the sinophone world. In the past and present\, language planning agencies in the area commonly – if not uncontroversially – referred to as “Greater China” have responded differently to the challenges of multilingualism. After several decades of national language policy\, Mandarin is now widely used and broadly accepted in Mainland China\, Singapore\, and Taiwan. It is used to a much lesser degree in Hong Kong and Macao\, where Cantonese\, the major regional language\, arguably enjoys a higher prestige than other so‐called “dialects” elsewhere. At the same time\, there are notable differences with regard to international language planning – most important\, the incorporation of English into school curricula and/or the acceptance of English as an official language. \nOne purpose of the symposium is to bring together scholars who are working on language planning and official responses to language diversity. Another purpose is to compare the effects of language planning and the manifestations of language diversity in the daily lives of the speakers. Lastly\, we aim at situating the conference theme in a historical context. The reason behind this historical contextualization is to find out to what extent language-related phenomena are imbedded in Chinese traditions\, and to what extent they can be accounted for by analytical approaches that are not bound to Chinese culture and/or history. Topics include language contact phenomena (e.g.\, code mixing)\, multilingualism in classrooms\, language variation and language use in the media\, and nonofficial language ideologies and activities of language revivalist groups. \nKeep updated here\n \n  \n 
URL:https://www.cemeas.de/event/l/
LOCATION:Historical Observatory\, Geismar Landstraße 11\, Göttingen
CATEGORIES:Conference
END:VEVENT
END:VCALENDAR