BEGIN:VCALENDAR
VERSION:2.0
PRODID:-//CeMEAS - ECPv6.15.16//NONSGML v1.0//EN
CALSCALE:GREGORIAN
METHOD:PUBLISH
X-ORIGINAL-URL:https://www.cemeas.de
X-WR-CALDESC:Events for CeMEAS
REFRESH-INTERVAL;VALUE=DURATION:PT1H
X-Robots-Tag:noindex
X-PUBLISHED-TTL:PT1H
BEGIN:VTIMEZONE
TZID:Europe/Berlin
BEGIN:DAYLIGHT
TZOFFSETFROM:+0100
TZOFFSETTO:+0200
TZNAME:CEST
DTSTART:20220327T010000
END:DAYLIGHT
BEGIN:STANDARD
TZOFFSETFROM:+0200
TZOFFSETTO:+0100
TZNAME:CET
DTSTART:20221030T010000
END:STANDARD
BEGIN:DAYLIGHT
TZOFFSETFROM:+0100
TZOFFSETTO:+0200
TZNAME:CEST
DTSTART:20230326T010000
END:DAYLIGHT
BEGIN:STANDARD
TZOFFSETFROM:+0200
TZOFFSETTO:+0100
TZNAME:CET
DTSTART:20231029T010000
END:STANDARD
BEGIN:DAYLIGHT
TZOFFSETFROM:+0100
TZOFFSETTO:+0200
TZNAME:CEST
DTSTART:20240331T010000
END:DAYLIGHT
BEGIN:STANDARD
TZOFFSETFROM:+0200
TZOFFSETTO:+0100
TZNAME:CET
DTSTART:20241027T010000
END:STANDARD
END:VTIMEZONE
BEGIN:VEVENT
DTSTART;TZID=Europe/Berlin:20230316T110000
DTEND;TZID=Europe/Berlin:20230316T120000
DTSTAMP:20260424T194612
CREATED:20230308T141253Z
LAST-MODIFIED:20230308T141555Z
UID:10557-1678964400-1678968000@www.cemeas.de
SUMMARY:Global China Conversations #19 Braucht Deutschland eine China-Strategie?
DESCRIPTION:Thema\nChina ist heutzutage die zweitgrößte Volkswirtschaft weltweit und prägt als Absatz- wie als Beschaffungsmarkt den globalen Handel. Es gehört zusammen mit den USA zu den wichtigsten Akteuren in einer zunehmend von geopolitischen Faktoren und Rivalität bestimmten Welt. Aufgrund der zugenommenen wirtschaftlichen Verflechtungen im Handel und Kapitalverkehr und der von den westlichen demokratischen Ländern immer stärker betonten systemischen Rivalität arbeiten die Europäische Union und viele EU-Mitgliedsstaaten erstmalig an einer Strategie gegenüber einem einzelnen Land\, um in der Zukunft besser ihre Interessen gegenüber China durchsetzen zu können. Auch die deutsche Regierung arbeitet an einer derartigen Strategie. Aber braucht Deutschland wirklich eine „China“-Strategie? Welche Voraussetzungen müssen erfüllt werden\, um überhaupt eine effektive Strategie zu entwickeln? Was kann von so einer Chinastrategie erwartet werden? In welchem Zusammenhang soll die Chinastrategie Deutschlands mit der Chinastrategie der EU stehen? Oder gibt es eine strategische Alternative zu der (geplanten) Chinastrategie? \nProgramm\nDie Veranstaltung besteht aus Impulsvorträgen der Sprecher gefolgt von einer Diskussion. \nDie Global China Conversation #19 wird auf Deutsch abgehalten. \n\n\n\n\nLiteratur\n\n\nDie Impulsvorträge nehmen Bezug auf folgende Veröffentlichungen: \nGörg\, H.\, Kamin\, K.\, Langhammer\, R. J.\, & Liu\, W.-H. (2023). Die geplante China-Strategie Deutschlands ist der falsche Weg. Kiel Focus.  \n\n\n\n\nSprecher\n\n\n\n\n\n\n© IfW Kiel\, Michael Stefan \n\n\n\nHolger Görg  \nProf. Holger Görg\, Ph.D. ist Präsident des Kiel Instituts für Weltwirtschaft. Er ist Professor für Außenwirtschaft an der Christian-Albrecht-Universität zu Kiel und Leiter des Forschungsbereichs ‘Internationaler Handel und Investitionen’ am Kiel Institut. Seit 2016 leitet er das Kiel Centre for Globalization. Weiterhin ist er ein Research Fellow des Tuborg Centre for Globalisation and Firms an der Universität Aarhus\, des Leverhulme Centre for Research on Globalisation and Economic Policy an der University of Nottingham und des IZA in Bonn. \n\n\n\n\n\n\n\n\n\n\nKatja Leikert  \nDr. Katja Leikert ist seit 2013 Mitglied des Deutschen Bundestages und sitzt dort als promovierte Sicherheitspolitikerin für die CDU im Auswärtigen Ausschuss. Zusätzlich ist sie Mitglied im Unterausschuss Abrüstung\, Rüstungskontrolle und Nichtverbreitung sowie Obfrau der CDU/CSU-Fraktion im Familienausschuss. \n\n\n\n\n\nModeration\n\n\n\n\n\n\n© Finn Mayer-Kuckuk (Autoren: Kopf&Kragen\, mark von wardenburg) \n\n\n\nFinn Mayer-Kuckuk  \nFinn Mayer-Kuckuk ist Wirtschaftsjournalist mit Schwerpunkt Ostasien. Er leitet die Redaktion des China.Table\, des täglichen Professional-Briefings für Experten in Wirtschaft\, Wissenschaft\, Politik und Organisationen. Mayer-Kuckuk hat unter anderem als Peking-Korrespondent für das Handelsblatt und die DuMont-Gruppe gearbeitet und hat später eine Reihe von Medien als Wirtschaftskorrespondent in der Bundespressekonferenz in Berlin vertreten. \n\n\n\n\n\n\n\n\n\n\n\n\n\n\n\n\n\n\n\n\n\n\n\n\n\n\n\n\nKontakt\nSilas Dreier\nsilas.dreier@ifw-kiel.de\n\n\n\n\n\nOrganisator\nKiel Institute for the World Economy\n\n\n\n\n\n\n\n\n\n\n\n\n\nRegistrierung\n\n\n> zur Online Anmeldung \n\n\n\n\n\nWissenschaftliche Partner\n\n\n\n\n\n\n\n\n\n\n\n\nMedienpartner\n\n\n\n\n\n\n\n\n\n\n\n\n\n\n\n\n\nChina.Table Professional Briefing ist das Leitmedium für Entscheider in Politik\, Wirtschaft\, Wissenschaft und Gesellschaft. Werktäglich News und Analysen über politische und technologische Entwicklungen in China und die Beziehungen zu Europa. \nJetzt unverbindlich für 30 Tage testen: deutsche Version kostenlos testen – englische Version kostenlos testen
URL:https://www.cemeas.de/event/global-china-conversations-19-braucht-deutschland-eine-china-strategie/
LOCATION:Online
CATEGORIES:Global China Conversations
ATTACH;FMTTYPE=image/png:https://www.cemeas.de/wp-content/uploads/2023/03/Twitter-Visual.png
END:VEVENT
END:VCALENDAR