BEGIN:VCALENDAR
VERSION:2.0
PRODID:-//CeMEAS - ECPv6.15.16//NONSGML v1.0//EN
CALSCALE:GREGORIAN
METHOD:PUBLISH
X-ORIGINAL-URL:https://www.cemeas.de
X-WR-CALDESC:Events for CeMEAS
REFRESH-INTERVAL;VALUE=DURATION:PT1H
X-Robots-Tag:noindex
X-PUBLISHED-TTL:PT1H
BEGIN:VTIMEZONE
TZID:Europe/Berlin
BEGIN:DAYLIGHT
TZOFFSETFROM:+0100
TZOFFSETTO:+0200
TZNAME:CEST
DTSTART:20230326T010000
END:DAYLIGHT
BEGIN:STANDARD
TZOFFSETFROM:+0200
TZOFFSETTO:+0100
TZNAME:CET
DTSTART:20231029T010000
END:STANDARD
BEGIN:DAYLIGHT
TZOFFSETFROM:+0100
TZOFFSETTO:+0200
TZNAME:CEST
DTSTART:20240331T010000
END:DAYLIGHT
BEGIN:STANDARD
TZOFFSETFROM:+0200
TZOFFSETTO:+0100
TZNAME:CET
DTSTART:20241027T010000
END:STANDARD
BEGIN:DAYLIGHT
TZOFFSETFROM:+0100
TZOFFSETTO:+0200
TZNAME:CEST
DTSTART:20250330T010000
END:DAYLIGHT
BEGIN:STANDARD
TZOFFSETFROM:+0200
TZOFFSETTO:+0100
TZNAME:CET
DTSTART:20251026T010000
END:STANDARD
END:VTIMEZONE
BEGIN:VEVENT
DTSTART;TZID=Europe/Berlin:20240606T110000
DTEND;TZID=Europe/Berlin:20240606T120000
DTSTAMP:20260424T001642
CREATED:20240523T084816Z
LAST-MODIFIED:20240612T134641Z
UID:11734-1717671600-1717675200@www.cemeas.de
SUMMARY:Global China Conversations #32  Umgang mit Daten: Welche Herausforderungen bestehen für ausländische Unternehmen in China?
DESCRIPTION:Zeit: June 6\, 2024\, 11-12 [CET]  \nOrt: Online auf Zoom – Registrierung \n  \nDaten sind die neue Währung. Ihre Speicherung\, Nutzung und Weitergabe sind unverzichtbar für viele Geschäftsmodelle und aus unserer modernen Welt nicht mehr wegzudenken. Ebenso wichtig ist ihr Schutz vor dem unbefugten Zugriff Dritter – seien es Private oder Staaten. Im Verhältnis zu China sorgen das Datensicherheitsgesetz und das Gesetz zum Schutz persönlicher Informationen zusammen mit anderen Formen der Datenregulierung für viel Unruhe bei Unternehmen. Welche Formen des Datenaustauschs sind jetzt (noch) zulässig und worauf ist dabei zu achten? Inwiefern unterscheidet sich die Herangehensweise Deutschlands und Europas von derjenigen Chinas? Ist angesichts der Entwicklung in China auch in Europa mehr Pragmatismus und „weniger Esoterik im Datenschutz“ nötig? In der GCC #32 werden wir diese und andere Fragen mit unseren erfahrenen Experten diskutieren. \nProgramm\nDie Veranstaltung besteht aus Impulsvorträgen der Sprecher gefolgt von einer Diskussion. \nDie Global China Conversation #32 wird auf Deutsch abgehalten. \n  \nSpeakers \n \nStephan Meyer \nStephan Meyer\, Professor für Öffentliches Recht an der Technischen Hochschule Wildau seit 2016. Habilitiert an der Universität Erfurt im Jahre 2010; verliehene Venia Legendi: Öffentliches Recht\, Verwaltungswissenschaft und Rechtstheorie. Forschungsschwerpunkte sind unter anderem der innovationsoffene Umgang des Rechts mit technologischen Risiken\, insbesondere mit Künstlicher Intelligenz\, das Datenschutzrecht und das internationale öffentliche Recht. \n  \n \nSebastian Wiendieck  \nSebastian Wiendieck ist Leiter der Rechtsabteilung von Rödl & Partner in China. Er sitzt in Shanghai und ist dort als ausländischer Rechtsanwalt registriert. Herr Wiendieck lebt und arbeitet seit über 15 Jahren in China. Herr Wiendieck berät und unterstützt multinationale und mittelständische Unternehmen\, vor allem aus Deutschland\, bei ihren Geschäftsaktivitäten und Investitionen in China. Er ist spezialisiert auf Gesellschaftsrecht\, ausländische Direktinvestitionen sowie Fusionen und Übernahmen. \n  \n \nModerator: Dietmar Baetge \nDietmar Baetge ist Professor für Internationales Handelsrecht und Wirtschaftsprivatrecht an der Technischen Hochschule Wildau. Er war u.a. Referent am Max-Planck-Institut für ausländisches und internationales Privatrecht in Hamburg und Partner einer deutsch-griechischen Anwaltskanzlei. Zu seinen Forschungsschwerpunkten gehören die Wechselwirkungen zwischen Wettbewerbs- und internationaler Handelspolitik. \nKontakt: Moritz Haase (moritz.haase@ifw-kiel.de) \n\n\n\n\n\n\n\nRegistrierung\n\n\n\n> zur Online Anmeldung \n\n\n\n\n\n\n\n\n\n\n\n\nWissenschaftliche Partner\n\n\n\n\n\n\n\n\n\n\n\n\n\n\n\n\n\n\n\n\n\n\n\n\n\n\nMedienpartner\n\n\n\n\n\n\n\n\n\n\n\n\n\n\n\n\n\n\n\n\n\n\n\n\n\n\n\n\n\nChina.Table Professional Briefing ist das Leitmedium für Entscheider in Politik\, Wirtschaft\, Wissenschaft und Gesellschaft. Werktäglich News und Analysen über politische und technologische Entwicklungen in China und die Beziehungen zu Europa. \nJetzt unverbindlich für 30 Tage testen: deutsche Version kostenlos testen – englische Version kostenlos testen
URL:https://www.cemeas.de/event/global-china-conversations32-handling-data-what-are-the-challenges-for-foreign-companies-in-china/
CATEGORIES:Global China Conversations
ATTACH;FMTTYPE=image/png:https://www.cemeas.de/wp-content/uploads/2024/05/Screenshot-2024-05-23-at-10.47.47.png
END:VEVENT
END:VCALENDAR