BEGIN:VCALENDAR
VERSION:2.0
PRODID:-//CeMEAS - ECPv6.15.16//NONSGML v1.0//EN
CALSCALE:GREGORIAN
METHOD:PUBLISH
X-ORIGINAL-URL:https://www.cemeas.de
X-WR-CALDESC:Events for CeMEAS
REFRESH-INTERVAL;VALUE=DURATION:PT1H
X-Robots-Tag:noindex
X-PUBLISHED-TTL:PT1H
BEGIN:VTIMEZONE
TZID:Europe/Berlin
BEGIN:DAYLIGHT
TZOFFSETFROM:+0100
TZOFFSETTO:+0200
TZNAME:CEST
DTSTART:20240331T010000
END:DAYLIGHT
BEGIN:STANDARD
TZOFFSETFROM:+0200
TZOFFSETTO:+0100
TZNAME:CET
DTSTART:20241027T010000
END:STANDARD
BEGIN:DAYLIGHT
TZOFFSETFROM:+0100
TZOFFSETTO:+0200
TZNAME:CEST
DTSTART:20250330T010000
END:DAYLIGHT
BEGIN:STANDARD
TZOFFSETFROM:+0200
TZOFFSETTO:+0100
TZNAME:CET
DTSTART:20251026T010000
END:STANDARD
BEGIN:DAYLIGHT
TZOFFSETFROM:+0100
TZOFFSETTO:+0200
TZNAME:CEST
DTSTART:20260329T010000
END:DAYLIGHT
BEGIN:STANDARD
TZOFFSETFROM:+0200
TZOFFSETTO:+0100
TZNAME:CET
DTSTART:20261025T010000
END:STANDARD
END:VTIMEZONE
BEGIN:VEVENT
DTSTART;TZID=Europe/Berlin:20250130T140000
DTEND;TZID=Europe/Berlin:20250130T170000
DTSTAMP:20260423T151228
CREATED:20250609T152456Z
LAST-MODIFIED:20250609T152534Z
UID:12866-1738245600-1738256400@www.cemeas.de
SUMMARY:Global China Conversations #37  How Will Trump 2.0 Reshape European-Chinese Economic Relations?
DESCRIPTION:Global China Conversation #37 – How Will Trump 2.0 Reshape European-Chinese Economic Relations?\n  \nJanuary 30\, 2025 | 14:00-15:00 [CET] |\nZoom (Online)\nLanguage: English \n  \nTopic\nThe return of Donald Trump to the office of US President heralds a shift in the global geopolitical and geo-economic landscape\, with profound implications for European-Chinese relations. Under Trump’s first administration\, U.S.-China tensions escalated\, leading to a reconfiguration of global trade and investment flows\, as well as intensified pressure on European policymakers to align more closely with Washington’s China strategy. With the onset of Trump 2.0\, Europe faces an even greater challenge to reconcile its strategic autonomy with economic relations with China\, its second largest trading partner\, and its long-standing alliance with the United States. \nFor Europe\, the implications can be profound: potential reductions in exports to the U.S.\, a surge in Chinese imports\, and heightened economic uncertainty. As the EU navigates these turbulent waters\, critical questions demand attention. Can Europe’s de-risking strategy with China coexist with increased trade and investment? What role will the World Trade Organization play in mediating this evolving power dynamic? Are we witnessing the rise of permanent economic and political blocs\, and how should the EU respond? This Global China Conversation will explore how Trump 2.0 might reshape European-Chinese economic relations under the pressures of shifting alliances\, economic protectionism\, and strategic competition. \nProgram\nThe event consists of different impulse lectures followed by a discussion. \nThe Global China Conversation #37 will be held in English. \n\n\n\n\n\n\n\n\n\n\n\n\nSpeakers\n\n\n\n\n\n\n\n\n\n\n\n\nAdam Posen  \nAdam S. Posen is president of the Peterson Institute for International Economics. Under his leadership\, since January 2013\, the Institute has grown to 45 world-renowned fellows and won global recognition for its research on macroeconomics\, trade\, international finance\, and globalization. He has himself contributed to research and public policy in the areas of G20 monetary and fiscal policies\, European economic integration since the euro\, Japan’s recovery from its Great Recession\, and China-US economic relations. From 2009 to 2012\, Posen served as an external voting member of the Bank of England’s rate-setting Monetary Policy Committee (MPC)\, and he was named to The Atlantic’s list of superstar central bankers fighting the financial crisis. He co-authored Inflation Targeting with Bernanke\, Laubach\, and Mishkin while an economist at the Federal Reserve Bank of New York (1994-97). He is an inaugural CEPR Distinguished Fellow. He received his BA and PhD from Harvard University. \n\n\n\n\n\n\n\n\n\n\n\n\n\n\n\n\n\n\n\n\n\n\nJörg Wuttke  \nJörg Wuttke is a Partner with the DGA Group/ Albright Stonebridge Group since August 2024 and is based in the Washington DC. Until July 2024 Mr. Wuttke was Vice President of BASF China for 27 years. He was President of the European Union Chamber of Commerce in China from 2007 to 2010\, 2014 to 2017 and again from 2019 to 2023. From 2001 to 2004 Mr. Wuttke was the Chairman of the German Chamber of Commerce in China. He joined the Robert Bosch supervisory board in 2023. Since its establishment in 2013\, Mr. Wuttke is member of the Advisory Board of Germany’s foremost Think Tank on China\, Mercator Institute for China Studies (MERICS)\, in Berlin. He lived in China for more than 35 years. \n\n\n\n\n\n\n\n\n\n\n\n\nModeration\n\n\n\n\n\n\n\n\n\n\n\n\nAndreas Fuchs  \nAndreas Fuchs is a Professor of Developmental Economics\, Director of the Centre for Modern East Asian Studies at the University of Göttingen\, and Director of the Kiel Institute China Initiative. His research analyzes trade\, investment and development policies with quantitative methods and a special focus on China and other emerging economies. He also investigates the political economy of natural disasters\, humanitarian crises\, and non-militarized conflicts. \n\n\n\n\n\n\n\n\n\n\n\n\n\n\n\n\n\n\n\n\n\n\nRegistration\nPlease use our online form to submit your registration\n\n\n\n\n\n  \n\n\n  \n\n\n\n\n\n\n\n\n\n\n\n\n\n\nAcademic Partners\n\n\n\n\n\n\n\n\n\n\n\n\n\n\n\n\n\n\n\n\n\n\n\n\n\n\n\n\nMedia Partner\n\n\n\n\n\n\n\n\n\n\n\n\n\n\n\n\n\n\n\n\n\n\n\n\n\n\n\n\n\nChina.Table Professional Briefing is the new independent daily reporting from Berlin\, Brussels and Beijing. The acclaimed editorial team offers an European point of view on political and technological developments in China – for leaders in government\, business\, academia\, and civil society. \nTry it now for 30 days with no obligation: test the German version for free – test the English version for free \n\n\n\n\n\n\n\n\n\n\n\n\n\n\n\n\n\n\n\n\n\n\n\n\n\n\n\n\n\n\n 
URL:https://www.cemeas.de/event/global-china-conversations-37-how-will-trump-2-0-reshape-european-chinese-economic-relations/
LOCATION:Zoom
CATEGORIES:Global China Conversations
ATTACH;FMTTYPE=image/jpeg:https://www.cemeas.de/wp-content/uploads/2025/06/GhvYkFFbkAAe7B9.jpeg
END:VEVENT
END:VCALENDAR