BEGIN:VCALENDAR
VERSION:2.0
PRODID:-//CeMEAS - ECPv6.15.16//NONSGML v1.0//EN
CALSCALE:GREGORIAN
METHOD:PUBLISH
X-WR-CALNAME:CeMEAS
X-ORIGINAL-URL:https://www.cemeas.de
X-WR-CALDESC:Events for CeMEAS
REFRESH-INTERVAL;VALUE=DURATION:PT1H
X-Robots-Tag:noindex
X-PUBLISHED-TTL:PT1H
BEGIN:VTIMEZONE
TZID:Europe/Berlin
BEGIN:DAYLIGHT
TZOFFSETFROM:+0100
TZOFFSETTO:+0200
TZNAME:CEST
DTSTART:20240331T010000
END:DAYLIGHT
BEGIN:STANDARD
TZOFFSETFROM:+0200
TZOFFSETTO:+0100
TZNAME:CET
DTSTART:20241027T010000
END:STANDARD
BEGIN:DAYLIGHT
TZOFFSETFROM:+0100
TZOFFSETTO:+0200
TZNAME:CEST
DTSTART:20250330T010000
END:DAYLIGHT
BEGIN:STANDARD
TZOFFSETFROM:+0200
TZOFFSETTO:+0100
TZNAME:CET
DTSTART:20251026T010000
END:STANDARD
BEGIN:DAYLIGHT
TZOFFSETFROM:+0100
TZOFFSETTO:+0200
TZNAME:CEST
DTSTART:20260329T010000
END:DAYLIGHT
BEGIN:STANDARD
TZOFFSETFROM:+0200
TZOFFSETTO:+0100
TZNAME:CET
DTSTART:20261025T010000
END:STANDARD
END:VTIMEZONE
BEGIN:VEVENT
DTSTART;TZID=Europe/Berlin:20250424T110000
DTEND;TZID=Europe/Berlin:20250424T120000
DTSTAMP:20260423T102628
CREATED:20250415T083353Z
LAST-MODIFIED:20260119T104916Z
UID:12428-1745492400-1745496000@www.cemeas.de
SUMMARY:Global China Conversations #40 Schwächelnder Konsum\, schwächelndes Wachstum: Kann China die Binnennachfrage ankurbeln?
DESCRIPTION:Schwächelnder Konsum\, schwächelndes Wachstum: Kann China die Binnennachfrage ankurbeln?\n  \n  \nZeit: am 24.04.2025\, 11-12 Uhr [CET] \nOrt: Online auf Zoom [Auf Deutsch] – Registrierung \nDie chinesische Wirtschaft 2024 hat erneut nur mäßig expandiert. Besonders bremsend wirkten der gedämpfte private Konsum und der fehlende Schwung bei privaten Investitionen. Die entscheidende Stütze für Chinas wirtschaftliche Expansion kam vom Ausland. Doch die weiter steigenden Handelsspannungen mit den Vereinigten Staaten drohen diese Stütze zu schwächen. In Zeiten hoher außenwirtschaftspolitischer Unsicherheiten hängt Chinas wirtschaftliches Wachstum entscheidend davon ab\, ob sich die Binnennachfrage zu einer nachhaltigen Stütze der Wirtschaft entwickeln kann. Wie wird die chinesische Regierung die Binnenanfrage ankurbeln? Wird China politisch und wirtschaftlich gesehen gelingen\, daraus eine einheimische wirtschaftliche Stütze zu entwickeln?  Welche Herausforderungen ergeben sich dabei? Können deutsche und europäische Unternehmen von der Politik zur Förderung der Binnennachfrage profitieren? \n  \nProgramm \nDie Veranstaltung besteht aus Impulsvorträgen der Sprechenden gefolgt von einer Diskussion. \nDie Global China Conversation #40 wird auf Deutsch abgehalten. \n  \nLiteratur \nDrinhausen\, K. (2025)\, Chinas Nationaler Volkskongress 2025\, Beijing setzt auf Inlandsnachfrage zur Belebung der Konjunktur\, MERICS Briefs\, https://merics.org/de/merics-briefs/chinas-nationaler-volkskongress-2025. \nGern\, K-J.\, Kooths\, S.\, Krohn\, J.\, Liu\, W-H.\, Reents\, J. (2025)\, Weltwirtschaft im Frühjahr 2025: Mehr Unruhe\, höhere Risiken\, Konjunkturbericht Nr. 121\, https://www.ifw-kiel.de/de/publikationen/weltwirtschaft-im-fruehjahr-2025-mehr-unruhe-hoehere-risiken-33905/. \n  \nSprechende \nKatja Drinhausen \n \nKatja Drinhausen leitet den Programmbereich Innenpolitik und Gesellschaft am Mercator Institute for China Studies (MERICS). In ihrer Forschung beschäftigt sie sich mit den strategischen Zielsetzungen der Kommunistischen Partei Chinas\, der Entwicklung von Chinas Rechtssystem und Politik unter Xi Jinping sowie dem Verhältnis zwischen Staat und Gesellschaft. Ein Fokus ihrer Arbeit war in den vergangenen Jahren das Verständnis nationaler Sicherheit\, einschließlich wirtschaftlicher Sicherheit\, und den Implikationen für Chinas Innen- und Außenpolitik. Katja Drinhausen studierte Sinologie an den Universitäten Leipzig und Erlangen-Nürnberg sowie internationales und chinesisches Recht in Peking. Vor MERICS arbeitete sie u.a. als wissenschaftliche Mitarbeiterin und Projektmanagerin im Pekinger Büro der Hanns-Seidel-Stiftung. \nFoto: Fotograf: Marco Urban\, Copyright: MERICS. \n  \nCorinne Abele \n \nCorinne Abele leitet seit 2014 den Bereich Außenwirtschaft von Germany Trade & Invest in Shanghai. Zuvor vertrat sie Germany Trade & Invest (GTAI) in Peking und davor die Bundesagentur für Außenwirtschaft (bfai) in Taipeh. Die ausgebildete Journalistin\, Diplom-Volkswirtin und Osteuropa-Historikerin (Magister) analysiert seit über zwei Jahrzehnten das Wirtschaftsgeschehen und die Branchenentwicklungen vor Ort im chinesischsprachigen Raum. Neben zahlreichen Veröffentlichungen und Kurzstudien hält Frau Abele regelmäßig Vorträge. Zu ihren Spezialthemen zählen Industrie- und Technologiepolitik\, Klima- und Umweltschutz sowie Wettbewerbsbedingungen in China. \nFoto: Copyright: GTAI \n  \nModerator: Manuel Liu \nKOELN FOTOSTUDIO\nManuel Liu schreibt seit Oktober 2024 für den China.Table. Das journalistische Handwerk hat er im Volontariat beim Kölner Stadt-Anzeiger\, an der Journalistenschule ifp sowie an der Deutschen Journalisten Akademie erlernt. Hospitanzen beim ZDF\, Deutschlandradio und RND runden seinen Lebenslauf ab. Der gebürtige Hamburger wuchs in einem deutsch-chinesischen Haushalt auf\, darunter acht Jahre lang in Shanghai. In Siegen\, Köln und Peking studierte er Philosophie und Chinastudien (B.A.)\, in Bochum legte er den M.A. in International Political Economy of East Asia drauf. Der stolze Vater und Wahl-Kölner interessiert sich für die Beziehungen zwischen Deutschlands und Chinas Regierungen\, Unternehmen und Menschen. \n  \nKontakt: Hannah Holte (hannah.holte@ifw-kiel.de) \nRegistrierung \nBitte melden Sie sich hier für diese und folgende Global China Conversations an: \nhttps://www.ifw-kiel.de/de/institut/veranstaltungen/global-china-conversations/anmeldung-zur-veranstaltungsreihe-global-china-conversations/ \n  \n\n\n\n\nWissenschaftliche Partner\n\n\n\n\n\n\n\n\n\n\n\n\n\n\n\n\n\n\n\n\n\n\n\n\n\n\nMedienpartner\n\n\n\n\n\n\n\n\n\n\n\n\n\n\n\n\n\n\n\n\n\n\n\n\n\n\n\n\n\nChina.Table Professional Briefing ist das Leitmedium für Entscheider in Politik\, Wirtschaft\, Wissenschaft und Gesellschaft. Werktäglich News und Analysen über politische und technologische Entwicklungen in China und die Beziehungen zu Europa. \nJetzt unverbindlich für 30 Tage testen: deutsche Version kostenlos testen – englische Version kostenlos testen
URL:https://www.cemeas.de/event/global-china-conversations-40-schwachelnder-konsum-schwachelndes-wachstum-kann-china-die-binnennachfrage-ankurbeln/
LOCATION:Zoom
CATEGORIES:Global China Conversations
ATTACH;FMTTYPE=image/jpeg:https://www.cemeas.de/wp-content/uploads/2025/04/GCC-Twitter-Event40-DE-v02-e1744710909189.jpg
END:VEVENT
END:VCALENDAR