BEGIN:VCALENDAR
VERSION:2.0
PRODID:-//CeMEAS - ECPv6.15.16//NONSGML v1.0//EN
CALSCALE:GREGORIAN
METHOD:PUBLISH
X-WR-CALNAME:CeMEAS
X-ORIGINAL-URL:https://www.cemeas.de
X-WR-CALDESC:Events for CeMEAS
REFRESH-INTERVAL;VALUE=DURATION:PT1H
X-Robots-Tag:noindex
X-PUBLISHED-TTL:PT1H
BEGIN:VTIMEZONE
TZID:Europe/Berlin
BEGIN:DAYLIGHT
TZOFFSETFROM:+0100
TZOFFSETTO:+0200
TZNAME:CEST
DTSTART:20230326T010000
END:DAYLIGHT
BEGIN:STANDARD
TZOFFSETFROM:+0200
TZOFFSETTO:+0100
TZNAME:CET
DTSTART:20231029T010000
END:STANDARD
BEGIN:DAYLIGHT
TZOFFSETFROM:+0100
TZOFFSETTO:+0200
TZNAME:CEST
DTSTART:20240331T010000
END:DAYLIGHT
BEGIN:STANDARD
TZOFFSETFROM:+0200
TZOFFSETTO:+0100
TZNAME:CET
DTSTART:20241027T010000
END:STANDARD
BEGIN:DAYLIGHT
TZOFFSETFROM:+0100
TZOFFSETTO:+0200
TZNAME:CEST
DTSTART:20250330T010000
END:DAYLIGHT
BEGIN:STANDARD
TZOFFSETFROM:+0200
TZOFFSETTO:+0100
TZNAME:CET
DTSTART:20251026T010000
END:STANDARD
END:VTIMEZONE
BEGIN:VEVENT
DTSTART;TZID=Europe/Berlin:20240415T160000
DTEND;TZID=Europe/Berlin:20240415T180000
DTSTAMP:20260423T155317
CREATED:20240404T100156Z
LAST-MODIFIED:20240404T101007Z
UID:11574-1713196800-1713204000@www.cemeas.de
SUMMARY:Lecture: Victimhood Nationalism: Global History and Memory
DESCRIPTION:Victimhood Nationalism: Global History and Memory\n\n\nKWZ 0.610\n15. April 2024\, 16:00–18:00 Uhr (c. t.)\nProf. Dr. Lim Jie-Hyun (Sogang University\, Seoul) \n\n.\n\nAbstract:\n\nMy work “victimhood nationalism” aims to illustrate competing memories of victimhood in the postwar Vergangenheitsbewältigung in the global memory space. I try to make a critical inquiry of the global memory formation with a focus on victimhood memories. The historical space in this study is not an individual nation but an intersection of the memory loci of entangled history. Assuming the national history of “victimhood nationalism” implies a tautology resulting from and contributing to the nationalist phenomenology that constructs memories upon the present idea of the nation\, I am tracing the global trajectory of victimhood nationalism through the interactions among Poland\, Germany\, Israel\, Japan and Korea.\n\nBio:\nJie-Hyun Lim holds CIPSH chair of Global Easts and is founding director of the Critical Global Studies Institute at Sogang University\, Seoul. He has published widely on nationalism and Marxism in comparison\, Polish history\, transnational history and global memory. He is principal investigator of the research projects of Mnemonic Solidarity: Colonialism\, War and Genocide in the Global Memory Space (2017-2024) and Series Editor of “Entangled Memories in the Global South” at Palgrave/Macmillan and “Global Easts” at the Central European University Press. His recent books include Victimhood Nationalism-Global History and Memory (Columbia Univ. Press\, 2024-forthcoming)\, Opfernationalismus. Erinnerung und Herrschaft in der postkolonialen Welt (Klaus Wagenbach\, 2024)\, Global Easts: Remembering\, Imagining\, Practicing (Columbia Univ. Press\, 2022). Victimhood Nationalism-A Global History (Humanist\, 2021\, Japanese translation-2022)\, and Mnemonic Solidarity-Global Interventions (Palgrave\, 2021\, co-edited with Eve Rosenhaft).\n.\n\nOrganizer: Department of East Asian Studies\, University of Göttingen
URL:https://www.cemeas.de/event/lecture-victimhood-nationalism-global-history-and-memory/
LOCATION:KWZ 0.610
CATEGORIES:Lecture
ATTACH;FMTTYPE=image/jpeg:https://www.cemeas.de/wp-content/uploads/2020/01/KWZ-im-Sommer_K_0-scaled.jpg
END:VEVENT
BEGIN:VEVENT
DTSTART;TZID=Europe/Berlin:20240418T160000
DTEND;TZID=Europe/Berlin:20240418T180000
DTSTAMP:20260423T155317
CREATED:20240314T124137Z
LAST-MODIFIED:20240404T100247Z
UID:11541-1713456000-1713463200@www.cemeas.de
SUMMARY:Lecture: „A China We Can Talk To?“
DESCRIPTION:18. April 2024\, 16:00 – 18:00\nKWZ 0.602\n\n\nTalk summary:\nFor the past decade or so\, in his Reading the China Dream project\, David Ownby has been reading and translating the work of Chinese intellectuals who publish in China and in Chinese\, not dissidents\, but not Party propagandists either. These intellectuals inhabit a world parallel to and at the mercy of the world of Xi Jinping and the Party-State where – like intellectuals elsewhere in the world – they write and publish to try to influence public opinion and perhaps the state on the issues they are allowed to discuss. This world is circumscribed and has shrunk under Xi Jinping\, but over the course of 40 years of reform and opening\, Chinese intellectual life in China underwent a transformation like that of China’s economy and society; globalization changed the way Chinese intellectuals think and write with the result that\, to a surprising degree\, Chinese and Western intellectuals now share a common vocabulary and common references. This suggests that a dialogue might be possible with many of China’s thought-leaders\, if not with Chinese authorities. \nBio:\nDavid Ownby recently retired from the History Department of the Université of Montréal and is currently a Research Associate at the Max Planck Institute for Social Anthropology in Halle\, Germany. His most recent work focuses on intellectual life in contemporary China and he is the founder of the Reading the China Dream website. \nOrganizers:\nDepartment of East Asian Studies; Sponsored by BMBF
URL:https://www.cemeas.de/event/lecture-prof-david-ownby-universite-of-montreal-a-china-we-can-talk-to/
LOCATION:KWZ 0.602
CATEGORIES:Lecture
END:VEVENT
BEGIN:VEVENT
DTSTART;TZID=Europe/Berlin:20240423T140000
DTEND;TZID=Europe/Berlin:20240423T160000
DTSTAMP:20260423T155317
CREATED:20240314T110344Z
LAST-MODIFIED:20240319T161041Z
UID:11524-1713880800-1713888000@www.cemeas.de
SUMMARY:China-Strategien in der Diskussion: Handlungsmöglichkeiten an der Universität Göttingen
DESCRIPTION:Diskussionsveranstaltung\nChina-Strategien in der Diskussion: Handlungsmöglichkeiten für die Kooperation in Forschung und Lehre mit der VR China an der Universität Göttingen\nDatum: 23.04.2024\nZeit: 14:00 s.t.-16:00 s.t.\nOrt: Emmy Noether Saal\, Tagungs- und Veranstaltungshaus Alte Mensa\, Wilhelmsplatz 3\, 37073 Göttingen \nDie Veranstaltung findet in Präsenz statt. Die Vortragende ist online zugeschaltet. \nWir bitten um Anmeldung unter:  https://events.gwdg.de/event/715/\nBitte nutzen Sie die Gelegenheit\, Ihre Fragen bereits im Vorfeld einzureichen\, indem Sie diese im Anmeldeformular angeben\, um sicherzustellen\, dass Ihre Anliegen während der Veranstaltung adressiert werden können. \nProgramm: \n14:00 Grußwort\nProf. Dr. Inge Hanewinkel (Vizepräsidentin für Chancengleichheit\, Diversität und Internationales) \n14:15 Online-Vortrag und Q&A\nChina Strategien des BMBF\, DAAD und der HRK: eine kritische Reflektion\nMarijke Wahlers (stellv. Generalsekretärin der Hochschulrektorenkonferenz) \n15:00 Diskussionsrunde\nHandlungsmöglichkeiten für die Kooperation in Forschung und Lehre mit der VR China an der Universität Göttingen\nModeration: Prof. Dr. Hiltraud Casper-Hehne (Abteilung Interkulturelle Germanistik\, Universität Göttingen) & Prof. Dr. Axel Schneider (Ostasiatisches Seminar\, Universität Göttingen) \nOrganisatoren: \nAbteilung Interkulturelle Germanistik\nCentre for Modern East Asian Studies (CeMEAS)\nOstasiatisches Seminar \nWeitere Informationen finden Sie unter: https://www.cemeas.de/event/china-strategien-in-der-diskussion-handlungsmoglichkeiten-an-der-universitat-gottingen/
URL:https://www.cemeas.de/event/china-strategien-in-der-diskussion-handlungsmoglichkeiten-an-der-universitat-gottingen/
LOCATION:Emmy Noether Saal\, Veranstaltungshaus Alte Mensa\, Tagungs- und Veranstaltungshaus Alte Mensa\, Wilhelmsplatz 3\, 37073 Göttingen
CATEGORIES:Lecture,Workshop
END:VEVENT
BEGIN:VEVENT
DTSTART;TZID=Europe/Berlin:20240425T100000
DTEND;TZID=Europe/Berlin:20240425T120000
DTSTAMP:20260423T155317
CREATED:20240409T095305Z
LAST-MODIFIED:20240409T095637Z
UID:11584-1714039200-1714046400@www.cemeas.de
SUMMARY:12. Junges Forum zum chinesischen Recht
DESCRIPTION:Das Deutsch-Chinesische Institut für Rechtswissenschaft der Universität Göttingen stellt im Rahmen seiner Veranstaltung „Junges Forum zum chinesischen Recht“ den Doppelmasterstudiengang „Chinesisches Recht und Rechtsvergleichung“ der Universitäten Göttingen und Nanjing vor. Der Studiengang hat einen Umfang von vier Semestern und ermöglicht den Erwerb von gleich zwei Masterabschlüssen\, sodass am Ende die Titel LL.M./LL.M (oec) oder LL.M./M.A. verliehen werden. Das erste Mastersemester findet zur Vorbereitung in Göttingen statt\, während das zweite und dritte Semester in Nanjing\, China verbracht werden. Im vierten Semester widmen sich die Studierenden ihrer Masterarbeit in Göttingen. Prof. Dr. Benjamin Pißler\, Vizedirektor am Deutsch-Chinesischen Institut für Rechtswissenschaft in Nanjing\, wird den Teilnehmenden einen spannenden Einblick in die chinesische Rechtsterminologie\, insbesondere unter Einsatz von DeepL\, bieten. Auch wird es einen Erfahrungsbericht von einer Studentin des Doppelmasterstudiengangs „Chinesisches Recht und Rechtsvergleichung“ geben\, um einen persönlichen Eindruck des Studienganges zu vermitteln.Die Veranstaltung findet am 25.04.2024 ab 10 Uhr (s.t.) online als Zoom-Veranstaltung statt.\n \nZugangslink: https://uni-goettingen.zoom-x.de/j/69644117029?pwd=MGhDaVh3MzM0eUM3WFhWYUdrUERWUT09
URL:https://www.cemeas.de/event/12-junges-forum-zum-chinesischen-recht/
LOCATION:Zoom
CATEGORIES:Lecture,Workshop
END:VEVENT
END:VCALENDAR