BEGIN:VCALENDAR
VERSION:2.0
PRODID:-//CeMEAS - ECPv6.15.16//NONSGML v1.0//EN
CALSCALE:GREGORIAN
METHOD:PUBLISH
X-WR-CALNAME:CeMEAS
X-ORIGINAL-URL:https://www.cemeas.de
X-WR-CALDESC:Events for CeMEAS
REFRESH-INTERVAL;VALUE=DURATION:PT1H
X-Robots-Tag:noindex
X-PUBLISHED-TTL:PT1H
BEGIN:VTIMEZONE
TZID:Europe/Berlin
BEGIN:DAYLIGHT
TZOFFSETFROM:+0100
TZOFFSETTO:+0200
TZNAME:CEST
DTSTART:20230326T010000
END:DAYLIGHT
BEGIN:STANDARD
TZOFFSETFROM:+0200
TZOFFSETTO:+0100
TZNAME:CET
DTSTART:20231029T010000
END:STANDARD
BEGIN:DAYLIGHT
TZOFFSETFROM:+0100
TZOFFSETTO:+0200
TZNAME:CEST
DTSTART:20240331T010000
END:DAYLIGHT
BEGIN:STANDARD
TZOFFSETFROM:+0200
TZOFFSETTO:+0100
TZNAME:CET
DTSTART:20241027T010000
END:STANDARD
BEGIN:DAYLIGHT
TZOFFSETFROM:+0100
TZOFFSETTO:+0200
TZNAME:CEST
DTSTART:20250330T010000
END:DAYLIGHT
BEGIN:STANDARD
TZOFFSETFROM:+0200
TZOFFSETTO:+0100
TZNAME:CET
DTSTART:20251026T010000
END:STANDARD
END:VTIMEZONE
BEGIN:VEVENT
DTSTART;TZID=Europe/Berlin:20241111T180000
DTEND;TZID=Europe/Berlin:20241111T193000
DTSTAMP:20260423T055137
CREATED:20241023T082901Z
LAST-MODIFIED:20241028T090303Z
UID:12185-1731348000-1731353400@www.cemeas.de
SUMMARY:Dr. Austin Strange: The Political Logics of Chinese Global Infrastructure
DESCRIPTION:The Political Logics of Chinese Global Infrastructure\n\n\nDate: November 11\, 2024\, 18:00-19:30 \nLocation:  ZHG 004 \n\n\nAbstract: Infrastructure is a major component of China’s presence in global development and is also central to larger debates about China’s evolving roles in the world economy and international politics. This talk will present a comprehensive account of major\, Chinese government-financed infrastructure projects across the Global South since 1949 to the present day. New historical and contemporary datasets show Chinese global infrastructure’s distinctiveness in terms of its historical tenacity and massive contemporary scope. The data include hundreds of 20th-century overseas infrastructure projects that predate contemporary China’s infrastructure spree during the Going Out strategy and the Belt and Road Initiative. These projects and their underlying political logics suggest that global infrastructure will remain a crucial component of China’s role in international development even as the BRI evolves toward smaller\, more sustainable\, and digital infrastructure forms. The talk will also feature new findings from analyses of observational and experimental data on how overseas infrastructure projects relate to China’s international influence.\n\n\n\n\nBio: Austin Strange is an Associate Professor of International Relations in the Department of Politics and Public Administration at the University of Hong Kong. He teaches and researches international relations\, international development\, and Chinese foreign policy. He is the author of Chinese Global Infrastructure (Cambridge University Press\, 2023) and co-author of Banking on Beijing: The Aims and Impacts of China’s Overseas Development Program (Cambridge University Press\, 2022). Austin’s research has appeared or is forthcoming in American Economic Journal: Economic Policy\, Journal of Politics\, International Studies Quarterly\, and Journal of Conflict Resolution\, among others. In 2022 Austin was awarded the University of Hong Kong’s Early Career Teaching Award. From 2023-2025 he is a fellow in the National Committee on United States-China Relations Public Intellectuals Program\, and previously he was a fellow at the Wilson Center and the Columbia-Harvard China and the World Program. Austin earned a Ph.D. from Harvard University\, an M.A. from Zhejiang University\, and a B.A. from College of William and Mary.
URL:https://www.cemeas.de/event/dr-austin-strange-the-political-logics-of-chinese-global-infrastructure/
LOCATION:ZHG 004
CATEGORIES:Lecture
ATTACH;FMTTYPE=image/png:https://www.cemeas.de/wp-content/uploads/2024/10/Austin_Strange_Goettingen_2024_pnf.png
END:VEVENT
END:VCALENDAR