BEGIN:VCALENDAR
VERSION:2.0
PRODID:-//CeMEAS - ECPv6.15.16//NONSGML v1.0//EN
CALSCALE:GREGORIAN
METHOD:PUBLISH
X-WR-CALNAME:CeMEAS
X-ORIGINAL-URL:https://www.cemeas.de
X-WR-CALDESC:Events for CeMEAS
REFRESH-INTERVAL;VALUE=DURATION:PT1H
X-Robots-Tag:noindex
X-PUBLISHED-TTL:PT1H
BEGIN:VTIMEZONE
TZID:Europe/Berlin
BEGIN:DAYLIGHT
TZOFFSETFROM:+0100
TZOFFSETTO:+0200
TZNAME:CEST
DTSTART:20190331T010000
END:DAYLIGHT
BEGIN:STANDARD
TZOFFSETFROM:+0200
TZOFFSETTO:+0100
TZNAME:CET
DTSTART:20191027T010000
END:STANDARD
BEGIN:DAYLIGHT
TZOFFSETFROM:+0100
TZOFFSETTO:+0200
TZNAME:CEST
DTSTART:20200329T010000
END:DAYLIGHT
BEGIN:STANDARD
TZOFFSETFROM:+0200
TZOFFSETTO:+0100
TZNAME:CET
DTSTART:20201025T010000
END:STANDARD
BEGIN:DAYLIGHT
TZOFFSETFROM:+0100
TZOFFSETTO:+0200
TZNAME:CEST
DTSTART:20210328T010000
END:DAYLIGHT
BEGIN:STANDARD
TZOFFSETFROM:+0200
TZOFFSETTO:+0100
TZNAME:CET
DTSTART:20211031T010000
END:STANDARD
END:VTIMEZONE
BEGIN:VEVENT
DTSTART;TZID=Europe/Berlin:20200701T080000
DTEND;TZID=Europe/Berlin:20200831T170000
DTSTAMP:20260425T212848
CREATED:20200709T143613Z
LAST-MODIFIED:20200709T143613Z
UID:8484-1593590400-1598893200@www.cemeas.de
SUMMARY:First Drama Workshop of the Yingming Theater
DESCRIPTION:The Yingming theater is going to have its first Drama Workshop in August. \n\nFocus: Cross-cultural Communication \nFormat: Playback Theater \nLanguage: English/Chinese/German \nPlatform: Zoom Meeting Room (TBA) \nDate: TBA \n\nWho can participate in this workshop? \nIf you are curious about the theatrical forms of playback\, such as “Fluid sculptures”\, “Pairs”\, “Chorus”\, “Free form”\, “Snap shot” and “Collage”\, if you want to communicate with friends of diverse cultural\, linguistic\, ethnic or religious backgrounds and share your life stories\, and if you want to personally participate in the performances on the spot\, then don’t hesitate to join us! This event can definitely provide you with a new perspective and a unique experience. \nWe always believe that everyone’s story has its own value and is worthy of being heard and respected. Therefore\, we aim to understand the cultural diversity\, to find ways to communicate effectively and to build a mutual understanding as well as the consensus. \nOrganizers:  \nDr. Yumin Ao（Researcher at the Center for the Modern East Asian Studies） \nZhao Zhao（MA candidate at the Department of German Philology） \nRegistration: \nyingming.theater@gmail.com \n\nFor more information on the workshop click here. \n 
URL:https://www.cemeas.de/event/first-drama-workshop-of-the-yingming-theater/
CATEGORIES:Theater,Workshop
ATTACH;FMTTYPE=image/png:https://www.cemeas.de/wp-content/uploads/2020/07/Workshop1_082020.png
END:VEVENT
END:VCALENDAR