BEGIN:VCALENDAR
VERSION:2.0
PRODID:-//CeMEAS - ECPv6.15.16//NONSGML v1.0//EN
CALSCALE:GREGORIAN
METHOD:PUBLISH
X-WR-CALNAME:CeMEAS
X-ORIGINAL-URL:https://www.cemeas.de
X-WR-CALDESC:Events for CeMEAS
REFRESH-INTERVAL;VALUE=DURATION:PT1H
X-Robots-Tag:noindex
X-PUBLISHED-TTL:PT1H
BEGIN:VTIMEZONE
TZID:Europe/Berlin
BEGIN:DAYLIGHT
TZOFFSETFROM:+0100
TZOFFSETTO:+0200
TZNAME:CEST
DTSTART:20190331T010000
END:DAYLIGHT
BEGIN:STANDARD
TZOFFSETFROM:+0200
TZOFFSETTO:+0100
TZNAME:CET
DTSTART:20191027T010000
END:STANDARD
BEGIN:DAYLIGHT
TZOFFSETFROM:+0100
TZOFFSETTO:+0200
TZNAME:CEST
DTSTART:20200329T010000
END:DAYLIGHT
BEGIN:STANDARD
TZOFFSETFROM:+0200
TZOFFSETTO:+0100
TZNAME:CET
DTSTART:20201025T010000
END:STANDARD
BEGIN:DAYLIGHT
TZOFFSETFROM:+0100
TZOFFSETTO:+0200
TZNAME:CEST
DTSTART:20210328T010000
END:DAYLIGHT
BEGIN:STANDARD
TZOFFSETFROM:+0200
TZOFFSETTO:+0100
TZNAME:CET
DTSTART:20211031T010000
END:STANDARD
END:VTIMEZONE
BEGIN:VEVENT
DTSTART;TZID=Europe/Berlin:20201114T100000
DTEND;TZID=Europe/Berlin:20201114T164500
DTSTAMP:20260425T174239
CREATED:20201112T133917Z
LAST-MODIFIED:20201112T133917Z
UID:8693-1605348000-1605372300@www.cemeas.de
SUMMARY:China und Deutschland in der Entwicklungszusammenarbeit: Vergangenheit und Zukunft
DESCRIPTION:China und Deutschland in der Entwicklungszusammenarbeit: Vergangenheit und Zukunft\nIn der Entwicklungszusammenarbeit hat sich Chinas Rolle global gewandelt – vom Empfängerland westlicher Unterstützung zu einem wichtigen Geberstaat in Afrika\, Asien und Lateinamerika. 2014 begannen Deutschland und China eine strategische Partnerschaft zu pflegen. Damit änderte sich die Beziehung der Länder grundsätzlich. Wie schlägt sich dieser Wandel in der Entwicklungszusammenarbeit nieder? Welche Entwicklungen lassen sich seit der Etablierung der chinesischen Entwicklungsbehörde CIDCA beobachten? Wie wird mit China\, einem selbsterklärten „Entwicklungsland“\, als Geber in der globalen Entwicklungspolitik umgegangen? Welche Perspektiven gibt es für deutsch-chinesische Kooperationen? \nN.N.\, Andreas Fuchs (Universität Göttingen)\, Anja Weckwert (giz). Moderation: Christian Straube (Stiftung Asienhaus) \nDer Workshop ist Teil der Veranstaltungsreihe 8. Asientag: Solidarität mit Asien in der Pandemie \n\nAm 13. und 14. November 2020 findet der 8. Asientag statt\, dieses Jahr zum ersten Mal als Online-Veranstaltung. Viele Workshops werden einen Bezug zur Corona-Pandemie haben\, aber auch andere interessante Themen werden aufgegriffen. Hinzu haben wir spannende Diskussionsrunden geplant. Die Stiftung Asienhaus\, das philippinenbüro und der Korea Verband laden herzlich zum digitalen Austausch im November ein. \n\nHier kann man sich zum Workshop anmelden.
URL:https://www.cemeas.de/event/china-und-deutschland-in-der-entwicklungszusammenarbeit-vergangenheit-und-zukunft/
CATEGORIES:Workshop
ATTACH;FMTTYPE=image/jpeg:https://www.cemeas.de/wp-content/uploads/2012/12/KWZ-Bib1.jpg
END:VEVENT
END:VCALENDAR