BEGIN:VCALENDAR
VERSION:2.0
PRODID:-//CeMEAS - ECPv6.15.16//NONSGML v1.0//EN
CALSCALE:GREGORIAN
METHOD:PUBLISH
X-WR-CALNAME:CeMEAS
X-ORIGINAL-URL:https://www.cemeas.de
X-WR-CALDESC:Events for CeMEAS
REFRESH-INTERVAL;VALUE=DURATION:PT1H
X-Robots-Tag:noindex
X-PUBLISHED-TTL:PT1H
BEGIN:VTIMEZONE
TZID:Europe/Berlin
BEGIN:DAYLIGHT
TZOFFSETFROM:+0100
TZOFFSETTO:+0200
TZNAME:CEST
DTSTART:20200329T010000
END:DAYLIGHT
BEGIN:STANDARD
TZOFFSETFROM:+0200
TZOFFSETTO:+0100
TZNAME:CET
DTSTART:20201025T010000
END:STANDARD
BEGIN:DAYLIGHT
TZOFFSETFROM:+0100
TZOFFSETTO:+0200
TZNAME:CEST
DTSTART:20210328T010000
END:DAYLIGHT
BEGIN:STANDARD
TZOFFSETFROM:+0200
TZOFFSETTO:+0100
TZNAME:CET
DTSTART:20211031T010000
END:STANDARD
BEGIN:DAYLIGHT
TZOFFSETFROM:+0100
TZOFFSETTO:+0200
TZNAME:CEST
DTSTART:20220327T010000
END:DAYLIGHT
BEGIN:STANDARD
TZOFFSETFROM:+0200
TZOFFSETTO:+0100
TZNAME:CET
DTSTART:20221030T010000
END:STANDARD
END:VTIMEZONE
BEGIN:VEVENT
DTSTART;TZID=Europe/Berlin:20210920T080000
DTEND;TZID=Europe/Berlin:20210924T170000
DTSTAMP:20260425T041026
CREATED:20210824T151226Z
LAST-MODIFIED:20210825T065707Z
UID:9187-1632124800-1632502800@www.cemeas.de
SUMMARY:Göttinger Sommerschule zum chinesischen Recht vom 20.-24.09.2021
DESCRIPTION:Göttinger Sommerschule zum chinesischen Recht\nAuch in diesem Jahr findet die Vortragsreihe „Göttinger Sommerschule zum chinesischen Recht“ des Deutsch-Chinesischen Instituts für Rechtswissenschaft der Georg-August-Universität Göttingen in der Woche vom 20.-24.09.2021 im digitalen Format statt. Die in Kooperation mit dem Max-Planck-Institut für ausländisches und internationales Privatrecht Hamburg organisierte Veranstaltung richtet sich an Studierende\, Doktoranden und Praktiker\, die einen ersten Einblick in das chinesische Recht gewinnen oder bereits vorhandene Kenntnisse vertiefen möchten. Im Vordergrund steht dabei der fachliche Austausch über aktuelle Entwicklungen des chinesischen Rechts und die Rechtspraxis in China. Das Deutsch-Chinesische Institut freut sich über ein wachsendes internationales Publikum\, sodass die Vortragsreihe auf Englisch stattfinden wird.\n\nKURSINHALTE:\nHauptbestandteil der Sommerschule ist eine tägliche Basisvorlesung „Chinese Business Law“ von Herrn Professor Dr. Knut Benjamin Pißler\, China-Referent am Max-Planck-Institut. Daneben referieren Wissenschaftler und Experten zu verschiedenen ausgewählten Themenbereichen des chinesischen Rechts. Das Institut freut sich in diesem Jahr unter anderem insbesondere über die Zusage von Professor Donald Clarke (The George Washington University Law School)\, Prof. Dr. Yuanshi Bu (Universität Freiburg) und Prof. Dr. Eva Pils (Dickson Poon School of Law\, King’s College London).\n\nANMELDUNG:\nDa die Teilnehmerzahl auf 80 Personen begrenzt ist\, bitten wir um frühzeitige Anmeldungen: Unter diesem Link finden Sie  Hinweise zur Veranstaltung\, dem Programm und dem Anmeldeformular.\n\nKONTAKT:\nFür weitere Informationen und bei Fragen stehen wir Ihnen gerne telefonisch unter 0551 / 39-21820 oder per Mail unter ChinaRecht@jura.uni-goettingen.de zur Verfügung.\n\nStudierende der Rechtswissenschaften können durch das Bestehen der Take- Home-Examination ihren Fremdsprachennachweis gem. § 4 I Nr. 1 d NJAG erwerben.\n\nIMAGE: Ausschnitt vom Poster der Göttinger Sommerschule zum chinesischen Recht vom 20.-24.09.2021: https://www.uni-goettingen.de/de/anmeldung+f%C3%BCr+die+g%C3%B6ttinger+sommerschule+zum+chinesischen+recht+vom+20.-24.09.2021+/647712.html
URL:https://www.cemeas.de/event/gottinger-sommerschule-zum-chinesischen-recht-vom-20-24-09-2021/
CATEGORIES:Workshop
ATTACH;FMTTYPE=image/jpeg:https://www.cemeas.de/wp-content/uploads/2021/08/aaaaaaaaaaa.jpg
END:VEVENT
END:VCALENDAR