BEGIN:VCALENDAR
VERSION:2.0
PRODID:-//CeMEAS - ECPv6.15.16//NONSGML v1.0//EN
CALSCALE:GREGORIAN
METHOD:PUBLISH
X-ORIGINAL-URL:https://www.cemeas.de
X-WR-CALDESC:Events for CeMEAS
REFRESH-INTERVAL;VALUE=DURATION:PT1H
X-Robots-Tag:noindex
X-PUBLISHED-TTL:PT1H
BEGIN:VTIMEZONE
TZID:Europe/Berlin
BEGIN:DAYLIGHT
TZOFFSETFROM:+0100
TZOFFSETTO:+0200
TZNAME:CEST
DTSTART:20210328T010000
END:DAYLIGHT
BEGIN:STANDARD
TZOFFSETFROM:+0200
TZOFFSETTO:+0100
TZNAME:CET
DTSTART:20211031T010000
END:STANDARD
BEGIN:DAYLIGHT
TZOFFSETFROM:+0100
TZOFFSETTO:+0200
TZNAME:CEST
DTSTART:20220327T010000
END:DAYLIGHT
BEGIN:STANDARD
TZOFFSETFROM:+0200
TZOFFSETTO:+0100
TZNAME:CET
DTSTART:20221030T010000
END:STANDARD
BEGIN:DAYLIGHT
TZOFFSETFROM:+0100
TZOFFSETTO:+0200
TZNAME:CEST
DTSTART:20230326T010000
END:DAYLIGHT
BEGIN:STANDARD
TZOFFSETFROM:+0200
TZOFFSETTO:+0100
TZNAME:CET
DTSTART:20231029T010000
END:STANDARD
END:VTIMEZONE
BEGIN:VEVENT
DTSTART;TZID=Europe/Berlin:20220923T110000
DTEND;TZID=Europe/Berlin:20220924T190000
DTSTAMP:20260424T115609
CREATED:20220823T084056Z
LAST-MODIFIED:20220927T094041Z
UID:10206-1663930800-1664046000@www.cemeas.de
SUMMARY:Workshop: Islamic Pasts and Futures in East Asia's Worldmaking
DESCRIPTION:Workshop:\nIslamic Pasts and Futures in East Asia’s Worldmaking\nSeptember 23\, 2022 – September 24\, 2022 \n  \nVenue: Historische Sternwarte\, University of Göttingen\, Geismar Landstraße 11\, 37083 Göttingen \n*There is only a limited number of seats for attendance onsite. Please contact xiaoyang.zhao@stud.uni-goettingen.de for inquiries. \nProgram:\nSeptember 23\, 2022 (Friday) \n\n\n\n\n11:00 –  \n11:20\nOpening and Introduction \nDominic Sachsenmaier (University of Göttingen) \nJanice Hyeju Jeong (University of Göttingen) \nMohammad Alsudairi (King Faisal Center for Research and Islamic Studies)\n\n\n\n11:30 –  \n14:00\nPanel I. Visions and Instrumentalizations of Islam in Asia: Historical Trajectories \nChair: Janice Hyeju Jeong (University of Göttingen) \n\n\n\n\nCemil Aydin (University of North Carolina Chapel Hill) \nInter-Asian Muslim Experiences of World-Making and World-Breaking in the Long 20th Century \n\n\n\n\nUlrich Brandenburg (University of Zurich) \nAsia\, Muslim Asia\, and the Challenge to Geography \n\n\n\n\nYee Lak Elliot Lee (Leipzig University) \nRe-Territorialization of Hui Muslims in Early 20th Century China: Historical and Demographic Knowledge Production \n\n\n\n\nHale Eroglu (Bogazici University) \nThe Awakened Muslim: Turkish Modernity in Chinese Muslim Reformist Thought\n \n\n\n\n15:30 –  \n16:30  \n \nKeynote Address by Selcuk Esenbel (Bogazici University)\n“Islam and East Asia in World-Making: Local and Regional Maps Embedded into a Globalizing World”\n\n\n\n17:00 –  \n18:45 \nPanel II. Crisis\, Community\, and Control in Altishahr/Xinjiang \nChair: Cemil Aydin (University of North Carolina Chapel Hill)\n\n\n\nElke Spiessens (Leiden University\, WWU Münster) \nCCP Policy towards Uyghur Islam in the 21st Century: What Changed? \n\n\n\n\nBjörn Alpermann (University of Würzburg) \nA Vanishing Act? Islam in Contemporary Xinjiang \n\n\n\n\nRachel Harris (SOAS University of London) \nReligious Experience and Manufactured Spectacle in Xinjiang \n\n\n\n\n\n  \nSeptember 24\, 2022 (Saturday) \n\n\n\n\n10:00 –  \n11:45  \n \nPanel III. The Question of “Muslim” Ethnicities and Minorities in “non-Muslim” Asia \nChair: Selcuk Esenbel (Bogazici University)\n\n\n\n\nRian Thum (University of Manchester) \nInter-Asian Islamophobia \n\n\n\n\nWlodzimierz Cieciura (University of Warsaw) \nHuizu – a Chinese ‘Muslim race’? Muslim Racialization and Self-Racialization in Modern China. \n\n\n\n\nYoko Yamashita (Sophia University) \nMulticultural Freedom and Discursive Modes of Control over Muslims in Contemporary Japan \n\n\n\n13:00 –  \n14:45 \nPanel IV. The Politics of “Acceptable” Islam: Aesthetics and Public Visibility \nChair: Liu Kang (Duke University) \n\n\n\nSoojeong Yi (Sogang Euro-MENA Institute\, Sogang University) \nSocial Integration in South Korea: Ban-Opticon and Recognition Struggle \n \n\n\n\nYang Yang (National University of Singapore) \nTraveling Muslim Men as Cultural Assets: Popularized Islam\, Heritage\, Diplomacy\, and the Silk Road in China \n\n\n\n\nMichael Malzer (University of Würzburg) \nFrom Arabian Nights to China’s Bordeaux: the Vanishing Role of Islam in Yinchuan\, Ningxia \n\n\n\n15:00 –  \n16:00  \n \nKeynote Address by Engseng Ho (Duke University):\n“Mobile Muslims and Majoritarian States: Open and Shut Cases”\n\n\n\n16:30 –  \n18:15 \nPanel V. Dwelling in Migration and Displacement: Tensions and Opportunities between Global Expanses and Westphalian Borders \nChair: Zhu Guohua (East China Normal University)\n\n\nFrancesca Rosati (University of Leiden) \nMuslim Women in Northwestern China between Islamization and Chinafication: The Case of Women’s Madrasas in Linxia\n\n\n\nLeila Chebbi (CETOBaC) \nIn the ways of Tabligh: Sinicization as a Survival Strategy for a Global Islamic Revivalist Movement? \n\n\n\n\nAtsushi Yamagata (University of Wollongong) \nResponses to the Syrian Refugee Crisis in Japan \n\n\n\n\n\nDownload the program here:\nPublic Conference Program “Islamic Pasts and Futures in East Asia’s Worldmaking” \n  \nFor further information please refer to the website of the Joint Center for Advanced Studies “Worldmaking from a Global Perspective: A Dialogue with China”. \n  \nOrganizers\n \n \n  \n \n  \n \n  \n  \nImage: CC-BY-SA 3.0\, Kirschmann-Schröder\, Gisa
URL:https://www.cemeas.de/event/workshop-islamic-pasts-and-futures-in-east-asias-worldmaking/
LOCATION:Historische Sternwarte
CATEGORIES:Workshop
ATTACH;FMTTYPE=image/jpeg:https://www.cemeas.de/wp-content/uploads/2022/05/JAN_3077-scaled.jpg
END:VEVENT
END:VCALENDAR