BEGIN:VCALENDAR
VERSION:2.0
PRODID:-//CeMEAS - ECPv6.15.16//NONSGML v1.0//EN
CALSCALE:GREGORIAN
METHOD:PUBLISH
X-ORIGINAL-URL:https://www.cemeas.de
X-WR-CALDESC:Events for CeMEAS
REFRESH-INTERVAL;VALUE=DURATION:PT1H
X-Robots-Tag:noindex
X-PUBLISHED-TTL:PT1H
BEGIN:VTIMEZONE
TZID:Europe/Berlin
BEGIN:DAYLIGHT
TZOFFSETFROM:+0100
TZOFFSETTO:+0200
TZNAME:CEST
DTSTART:20230326T010000
END:DAYLIGHT
BEGIN:STANDARD
TZOFFSETFROM:+0200
TZOFFSETTO:+0100
TZNAME:CET
DTSTART:20231029T010000
END:STANDARD
BEGIN:DAYLIGHT
TZOFFSETFROM:+0100
TZOFFSETTO:+0200
TZNAME:CEST
DTSTART:20240331T010000
END:DAYLIGHT
BEGIN:STANDARD
TZOFFSETFROM:+0200
TZOFFSETTO:+0100
TZNAME:CET
DTSTART:20241027T010000
END:STANDARD
BEGIN:DAYLIGHT
TZOFFSETFROM:+0100
TZOFFSETTO:+0200
TZNAME:CEST
DTSTART:20250330T010000
END:DAYLIGHT
BEGIN:STANDARD
TZOFFSETFROM:+0200
TZOFFSETTO:+0100
TZNAME:CET
DTSTART:20251026T010000
END:STANDARD
END:VTIMEZONE
BEGIN:VEVENT
DTSTART;TZID=Europe/Berlin:20240705T090000
DTEND;TZID=Europe/Berlin:20240705T170000
DTSTAMP:20260423T071251
CREATED:20240628T183404Z
LAST-MODIFIED:20240701T085924Z
UID:11956-1720170000-1720198800@www.cemeas.de
SUMMARY:Workshop Announcement: Asian Regionalisms in an Age of De-Globalization. Observing\, Discoursing\, Identifying
DESCRIPTION:Workshop Announcement: Asian Regionalisms in an Age of De-Globalization. Observing\, Discoursing\, Identifying \nDate: July 5\, 2024 \nTime: 09:00 – 17:00 \nVenue: Emmy-Noether-Saal\, Wilhelmsplatz\, Göttingen \nOrganizer: Lee\, Yu-Ting (National Taiwan University) \n  \nWe are pleased to invite you to our upcoming workshop\, “Asian Regionalisms in an Age of De-Globalization. Observing\, Discoursing\, Identifying\,” hosted by the Department of East Asian Studies at Georg-August-Universität Göttingen. This event is open to all. \n  \nProgram Schedule: \n09:15-09:30 \n\nWelcome and Introduction\n\nLee\, Yu-Ting (National Taiwan University)\n\n\n\n09:30-11:00 \n\nPanel One: Worldmaking: Discourses and Structural Transformations\n\nChair: Eva Orthmann (Göttingen)\nPresenters:\n\nRebecca Karl (New York University): Civilizational Confusions: Neo-traditionalism and Economism\nCao Yin (Peking University): The Yunnan-Burma Railway Project\, 1860s-1940s\nNikolay Kamenov (Göttingen/ETH Zürich): India’s Trade Connections to the Rest of Asia: Territorialization in the Interwar Period.\n\n\n\n\n\n11:00-11:30 \n\nCoffee Break\n\n11:30-12:30 \n\nKeynote Presentation\n\nZhang Hanwen (Independent Artist\, Berlin): Defection\, Exile\, and Utopia: Pan-Asianist Bodies and Legacies\n\n\n\n12:30-13:30 \n\nLunch Break\n\n13:30-15:00 \n\nPanel Two: Between the Local and the Universal: Identity and Claims\n\nChair: Dominic Sachsenmaier (Göttingen)\nPresenters:\n\nLee Yu-Ting (National Taiwan University): Taiwanese Self-Situating in Asian Regionalisms\nJulian Strube (Göttingen): Religious Universalism and Nationalism in Bengal\nHenrike Rudolph (Göttingen): Reclaiming the Local. Conceptions of the Bentu in Chinese International Politics\n\n\n\n\n\n15:00-15:30 \n\nCoffee Break\n\n15:30-17:00 \n\nConcluding Discussion\n\nJoin us for an insightful day of discussions and presentations on the evolving dynamics of Asian regionalisms in our current era of de-globalization. \n  \nInstitute: Department of East Asian Studies\, Georg-August-Universität Göttingen \nThis workshop is open to all. We look forward to your participation!
URL:https://www.cemeas.de/event/workshop-announcement-asian-regionalisms-in-an-age-of-de-globalization-observing-discoursing-identifying/
LOCATION:Emmy-Noether-Saal\, Wilhelmsplatz\,\, Göttingen
CATEGORIES:Workshop
END:VEVENT
BEGIN:VEVENT
DTSTART;TZID=Europe/Berlin:20240711T100000
DTEND;TZID=Europe/Berlin:20240711T173000
DTSTAMP:20260423T071251
CREATED:20240628T165040Z
LAST-MODIFIED:20240708T150309Z
UID:11946-1720692000-1720719000@www.cemeas.de
SUMMARY:Workshop-Tage „Koreanische Kampfkunst“
DESCRIPTION:Workshop-Tage „Koreanische Kampfkunst“ 10.7.2024 & 11-07.2024 \n1.Lecture-Performance: Between Folk-Game\, Cultural Performance and Martial Practice – The History and Culture of Taekkyon\, a Korean Martial Art\, Mi\, 10.07.2024 17:00\nSeminar Room E4A\, Institute for Sports Science\, Sprangerweg\n \n2. Film-Screening: The three Kims (2007\, director: Park Seong-gyun; a.k.a. Master Kim vs. Master Kim vs. Master Kim) Mi\, 10.07.2024 19:00\nSeminar Room E4A\, Institute for Sports Science\, Sprangerweg\n \n3. Kampfkunst-Workshops Taekkyon\, Donnerstag\, 11.07.2024\, 10:00-17:30\nAnmeldung unter: https://store.sport.uni-goettingen.de/sports/sport/125 \n  \nReferenten:  \n   \nGroßmeister Do\, Ki-Hyun\, PhD  \nPräsident Kyulyun Taekyun Association\, Affiliated Professor Yonsei University\, Seoul \n  \n \nMeister Hwang\, In-Mu \nLeiter Kyulyun Taekyun Association Demonstration Team \n  \n1. Lecture-Performance: Between Folk-Game\, Cultural Performance and Martial Practice – The History and Culture of Taekkyon\, a Korean Martial Art  \nTaekkyeon is a traditional Korean martial art that makes use of fluid\, rhythmic dance-like movements to strike or trip up an opponent. […] As a part of seasonal farming-related traditions\, Taekkyeon serves to facilitate community integration\, and as a sport accessible to all plays a major role in promoting public health. Taekkyeon is also practised by a great number of people as a daily activity.” (UNESCO\, “Taekkyeon\, a traditional Korean martial art”: https://ich.unesco.org/en/RL/taekkyeon-a-traditional-korean-martial-art-00452) \n  \n2. Film-Screening: The three Kims (2007\, director: Park Seong-gyun; a.k.a. Master Kim vs. Master Kim vs. Master Kim)  \nThe plot is instantly familiar in the great martial arts tradition\, being set in a small town which is home to two rival masters\, one who practices Taekkyun (Shin Hyun Jun\, also in the likes of “Shadowless Sword” and the “Marrying the Mafia” films) and the other Kendo (Choi Sung Kook\, also in “Crazy Assassins”)\, both of who just happen to be called Kim. As well as competing for students\, the two are locked in deadly combat for the hand of the local beauty\, who seems to be pretty much the only woman in town. Into their conflict comes yet another master Kim\, this time a kung fu expert (Kwon Oh Joong\, “Damo”) who puts them both to shame with his dizzying skills and suave charm. Eventually\, real danger arrives in the form of some unscrupulous land developers\, forcing the three to join forces for the greater good. \nStunt Choreographer: Hwang In-Mu \n  \n3. Kampfkunst-Workshops\, Donnerstag\, 11.07.2024\, 10:00-17:30 \nWorkshop 1: 10:00-12:00 (10am-12am) \nTaekkyon \nTaekkyon kann als DIE traditionelle Kampfkunst Koreas bezeichnet werden; seit 2011 ist es auf der Liste des immateriellen kulturellen Erbes der UNESCO. Das Bewegungsrepertoire beinhaltet insbesondere Tritt-\, Fege- und Ringtechniken\, für den spielerischen Kampf\, wie er im vor-modernen Korea im Rahmen vieler Volksfeste und Feiertage praktiziert wurde. Charakteristisch ist ein rhythmischer Grundschritt\, ähnlich dem brasilianischen Capoeira. \nDer Workshop beinhaltet: Technikübungen an Pratzen und Schlagpolstern\, Bewegungschoreografien sowie Partnerübungen \n  \nWorkshop 2: 13:00-15:00 (1pm-3pm) \nYetbeob Taekkyon \nYetbeop\, die sog. „alte Methode“\, beinhaltet Techniken\, die im spielerischen Wettkampf verboten sind\, die jedoch effektiv in der Selbstverteidigung eingesetzt werden können. Dazu zählen Stöße und Schläge mit der offenen Hand\, der Faust\, dem Ellenbogen oder Knie\, aber auch Kopfstöße sowie Angriffe zu vitalen Punkten. \nDer Workshop beinhaltet: Technikübungen an Pratzen und Schlagpolstern\, Bewegungschoreografien sowie Partnerübungen \n  \nWorkshop 3: 15:30-17:30 (3:30pm-5:30pm) \nHopaesool \nHopaesool ist eine Waffenkunst\, die auf der Verwendung der vor-modernen koreanischen Identifikationsmarke\, dem Hopae\, basiert. Diese besteht aus einer aus Holz oder anderen Materialien bestehenden Marke\, die an einer Kordel befestigt ist. \nEntsprechend seiner Beschaffenheit eignet sich das Hopae als Schlag\, Stoß oder Schwungwaffe und wird im Hopaesool auf diese Weisen genutzt. Im Training und für Wettkämpfe wird ein Hopae aus Schaumstoff genutzt. Fortgeschrittene üben darüber hinaus mit Hopae aus Holz sowie mit zwei Hopae gleichzeitig. \nDer Workshop beinhaltet: \nTechnikübungen an Pratzen und Schlagpolstern\, Bewegungschoreografien sowie Partnerübungen \n  \n \n Internet-Links: \nhttps://www.taekyun.org/ \nhttps://en.masterhwangytk.com/index.html \nhttps://www.hopaesool.com/
URL:https://www.cemeas.de/event/workshop-tag-koreanische-kampfkunst/
CATEGORIES:Workshop
ATTACH;FMTTYPE=image/jpeg:https://www.cemeas.de/wp-content/uploads/2024/06/Koreanische-Kampfkunst_2.jpg
END:VEVENT
END:VCALENDAR